BEGIN:VCALENDAR
VERSION:2.0
PRODID:-//NOWINCLUDED - ECPv6.15.20//NONSGML v1.0//EN
CALSCALE:GREGORIAN
METHOD:PUBLISH
X-ORIGINAL-URL:https://nowincluded.com
X-WR-CALDESC:Events for NOWINCLUDED
REFRESH-INTERVAL;VALUE=DURATION:PT1H
X-Robots-Tag:noindex
X-PUBLISHED-TTL:PT1H
BEGIN:VTIMEZONE
TZID:America/New_York
BEGIN:DAYLIGHT
TZOFFSETFROM:-0500
TZOFFSETTO:-0400
TZNAME:EDT
DTSTART:20250309T070000
END:DAYLIGHT
BEGIN:STANDARD
TZOFFSETFROM:-0400
TZOFFSETTO:-0500
TZNAME:EST
DTSTART:20251102T060000
END:STANDARD
BEGIN:DAYLIGHT
TZOFFSETFROM:-0500
TZOFFSETTO:-0400
TZNAME:EDT
DTSTART:20260308T070000
END:DAYLIGHT
BEGIN:STANDARD
TZOFFSETFROM:-0400
TZOFFSETTO:-0500
TZNAME:EST
DTSTART:20261101T060000
END:STANDARD
BEGIN:DAYLIGHT
TZOFFSETFROM:-0500
TZOFFSETTO:-0400
TZNAME:EDT
DTSTART:20270314T070000
END:DAYLIGHT
BEGIN:STANDARD
TZOFFSETFROM:-0400
TZOFFSETTO:-0500
TZNAME:EST
DTSTART:20271107T060000
END:STANDARD
END:VTIMEZONE
BEGIN:VEVENT
DTSTART;TZID=America/New_York:20260319T070000
DTEND;TZID=America/New_York:20260322T130000
DTSTAMP:20260421T043542
CREATED:20260108T211743Z
LAST-MODIFIED:20260108T211743Z
UID:10004631-1773903600-1774184400@nowincluded.com
SUMMARY:2026 National Colloquium on African American Health
DESCRIPTION:The 2026 National Colloquium on African American Health\, hosted by the National Medical Association\, is a premier gathering of healthcare professionals\, advocates\, and policymakers. \nUnder the theme “The New Reconstruction: Mobilizing Healthcare Justice for a New America\,” the event focuses on advancing health equity and addressing the specific needs of patients and providers within the African American community. This colloquium offers a unique opportunity to combine clinical education with direct political advocacy. Help mobilize healthcare justice and influence national health policy!
URL:https://nowincluded.com/event/2026-national-colloquium-on-african-american-health/
LOCATION:The Morrow Hotel\, 222 M St NE\, Washington\, DC\, 20002\, United States
CATEGORIES:Health & Wellness,Medical Conference
ATTACH;FMTTYPE=image/jpeg:https://nowincluded.com/wp-content/uploads/2026/01/Colloquium-2026.jpg
END:VEVENT
END:VCALENDAR