BEGIN:VCALENDAR
VERSION:2.0
PRODID:-//NOWINCLUDED - ECPv6.15.20//NONSGML v1.0//EN
CALSCALE:GREGORIAN
METHOD:PUBLISH
X-ORIGINAL-URL:https://nowincluded.com
X-WR-CALDESC:Events for NOWINCLUDED
REFRESH-INTERVAL;VALUE=DURATION:PT1H
X-Robots-Tag:noindex
X-PUBLISHED-TTL:PT1H
BEGIN:VTIMEZONE
TZID:America/Chicago
BEGIN:DAYLIGHT
TZOFFSETFROM:-0600
TZOFFSETTO:-0500
TZNAME:CDT
DTSTART:20250309T080000
END:DAYLIGHT
BEGIN:STANDARD
TZOFFSETFROM:-0500
TZOFFSETTO:-0600
TZNAME:CST
DTSTART:20251102T070000
END:STANDARD
BEGIN:DAYLIGHT
TZOFFSETFROM:-0600
TZOFFSETTO:-0500
TZNAME:CDT
DTSTART:20260308T080000
END:DAYLIGHT
BEGIN:STANDARD
TZOFFSETFROM:-0500
TZOFFSETTO:-0600
TZNAME:CST
DTSTART:20261101T070000
END:STANDARD
BEGIN:DAYLIGHT
TZOFFSETFROM:-0600
TZOFFSETTO:-0500
TZNAME:CDT
DTSTART:20270314T080000
END:DAYLIGHT
BEGIN:STANDARD
TZOFFSETFROM:-0500
TZOFFSETTO:-0600
TZNAME:CST
DTSTART:20271107T070000
END:STANDARD
END:VTIMEZONE
BEGIN:VTIMEZONE
TZID:America/New_York
BEGIN:DAYLIGHT
TZOFFSETFROM:-0500
TZOFFSETTO:-0400
TZNAME:EDT
DTSTART:20250309T070000
END:DAYLIGHT
BEGIN:STANDARD
TZOFFSETFROM:-0400
TZOFFSETTO:-0500
TZNAME:EST
DTSTART:20251102T060000
END:STANDARD
BEGIN:DAYLIGHT
TZOFFSETFROM:-0500
TZOFFSETTO:-0400
TZNAME:EDT
DTSTART:20260308T070000
END:DAYLIGHT
BEGIN:STANDARD
TZOFFSETFROM:-0400
TZOFFSETTO:-0500
TZNAME:EST
DTSTART:20261101T060000
END:STANDARD
BEGIN:DAYLIGHT
TZOFFSETFROM:-0500
TZOFFSETTO:-0400
TZNAME:EDT
DTSTART:20270314T070000
END:DAYLIGHT
BEGIN:STANDARD
TZOFFSETFROM:-0400
TZOFFSETTO:-0500
TZNAME:EST
DTSTART:20271107T060000
END:STANDARD
END:VTIMEZONE
BEGIN:VTIMEZONE
TZID:America/Los_Angeles
BEGIN:DAYLIGHT
TZOFFSETFROM:-0800
TZOFFSETTO:-0700
TZNAME:PDT
DTSTART:20250309T100000
END:DAYLIGHT
BEGIN:STANDARD
TZOFFSETFROM:-0700
TZOFFSETTO:-0800
TZNAME:PST
DTSTART:20251102T090000
END:STANDARD
BEGIN:DAYLIGHT
TZOFFSETFROM:-0800
TZOFFSETTO:-0700
TZNAME:PDT
DTSTART:20260308T100000
END:DAYLIGHT
BEGIN:STANDARD
TZOFFSETFROM:-0700
TZOFFSETTO:-0800
TZNAME:PST
DTSTART:20261101T090000
END:STANDARD
BEGIN:DAYLIGHT
TZOFFSETFROM:-0800
TZOFFSETTO:-0700
TZNAME:PDT
DTSTART:20270314T100000
END:DAYLIGHT
BEGIN:STANDARD
TZOFFSETFROM:-0700
TZOFFSETTO:-0800
TZNAME:PST
DTSTART:20271107T090000
END:STANDARD
END:VTIMEZONE
BEGIN:VEVENT
DTSTART;VALUE=DATE:20260328
DTEND;VALUE=DATE:20260330
DTSTAMP:20260421T050902
CREATED:20260304T192517Z
LAST-MODIFIED:20260304T192517Z
UID:10004859-1774656000-1774828799@nowincluded.com
SUMMARY:Oasis Health Expo Chicago
DESCRIPTION:Prioritize your well-being at the Oasis Health Expo 2026 in Chicago! Taking place on Saturday\, March 28\, 2026\, at 10:00 AM at the Ford City Mall. This premier wellness event offers expert medical advice\, free health screenings\, and the latest in holistic nutrition and fitness. You can explore a vibrant marketplace of wellness vendors\, participate in interactive workshops\, and connect with a community dedicated to physical and mental health. It is the perfect place to bring your family and friends!
URL:https://nowincluded.com/event/oasis-health-expo-chicago/
LOCATION:Ford City Mall\, 7601 South Cicero Avenue\, Chicago\, IL\, 60652\, United States
CATEGORIES:Financial Health,Health & Wellness,Kidney Health,Men,Mental Health,Senior Health,Women
ATTACH;FMTTYPE=image/webp:https://nowincluded.com/wp-content/uploads/2026/03/Oasis-Health-Expo-Chicago.webp
END:VEVENT
BEGIN:VEVENT
DTSTART;TZID=America/New_York:20260328T090000
DTEND;TZID=America/New_York:20260328T120000
DTSTAMP:20260421T050902
CREATED:20251021T171855Z
LAST-MODIFIED:20251021T171855Z
UID:10001337-1774688400-1774699200@nowincluded.com
SUMMARY:Nueva Vida Grupo de Apoyo (en  Español)
DESCRIPTION:Support Groups are led by a Licensed Social Worker\, offering space for deep connection with others facing similar challenges. \nThrough support\, community\, and belief in every person’s innate capacities for healing\, Smith Center for Healing and the Arts creates a nurturing environment where healing is always possible. Specializing in cancer care\, we offer empowering retreats\, yoga\, and creative workshops.  Our philosophy is that healing is a deeply personal journey that can encompass all aspects of life.  It’s about a return to wholeness\, hope\, joy\, and purpose\, knowing that “I will be alright\, no matter what happens.”  Our work is a testament to empathy\, care\, and the transformative power of art. It’s more than a place; it’s a compassionate embrace for those in need.  Learn more about Smith Center and see our full program calendar here. \nTo register for this program through Healing Circles Global\, please click <here>
URL:https://nowincluded.com/event/nueva-vida-grupo-de-apoyo-en-espanol/2026-03-28/
LOCATION:Smith Center For Healing and the Arts\, 1632 U Street NW\, Washington\, DC\, 20009\, United States
CATEGORIES:Mental Health,Virtual
END:VEVENT
BEGIN:VEVENT
DTSTART;TZID=America/Chicago:20260328T090000
DTEND;TZID=America/Chicago:20260328T120000
DTSTAMP:20260421T050902
CREATED:20260227T185448Z
LAST-MODIFIED:20260227T185448Z
UID:10004837-1774688400-1774699200@nowincluded.com
SUMMARY:Health & Wellness Fair at Casa De Amigos Health Center
DESCRIPTION:Take charge of your well-being at the Health & Wellness Fair at Casa De Amigos Health Center in Houston! Join us on Saturday\, March 28\, 2026\, for a community-centered day dedicated to connecting you with the vital health and social service resources you deserve. Whether you are looking for medical guidance\, local support programs\, or simply want to learn more about the wellness tools available in your neighborhood\, this fair is the perfect place to start. It is a fantastic opportunity to meet local experts\, gather valuable information\, and take a proactive step toward a healthier future for you and your family.
URL:https://nowincluded.com/event/health-wellness-fair-at-casa-de-amigos-health-center/
LOCATION:Casa de Amigos Health Center\, 1615 North Main Street\, Houston\, TX\, 77009\, United States
CATEGORIES:Black Maternal Health,Health & Wellness,Kidney Health,Men,Senior Health,Women
ATTACH;FMTTYPE=image/jpeg:https://nowincluded.com/wp-content/uploads/2026/02/harris-health-system-casa-de-amigos-health-center.jpg
END:VEVENT
BEGIN:VEVENT
DTSTART;TZID=America/New_York:20260328T100000
DTEND;TZID=America/New_York:20260328T120000
DTSTAMP:20260421T050902
CREATED:20251027T155101Z
LAST-MODIFIED:20251027T155101Z
UID:10003774-1774692000-1774699200@nowincluded.com
SUMMARY:Painting for Life
DESCRIPTION:ALL PROGRAMS OCCUR VIA ZOOM IN EASTERN TIME. \n  \nThrough support\, community\, and belief in every person’s innate capacities for healing\, Smith Center for Healing and the Arts creates a nurturing environment where healing is always possible. Specializing in cancer care\, we offer empowering retreats\, yoga\, and creative workshops.  Our philosophy is that healing is a deeply personal journey that can encompass all aspects of life.  It’s about a return to wholeness\, hope\, joy\, and purpose\, knowing that “I will be alright\, no matter what happens.”  Our work is a testament to empathy\, care\, and the transformative power of art. It’s more than a place; it’s a compassionate embrace for those in need.  Learn more about Smith Center and see our full program calendar here. \nTo register for an event\, please log in first. If you do not have an account\, please click here to create your free account. Don’t worry\, it’s quick!
URL:https://nowincluded.com/event/painting-for-life/2026-03-28/
LOCATION:Virtual Event
CATEGORIES:Art,Mental Health,Virtual
END:VEVENT
BEGIN:VEVENT
DTSTART;TZID=America/New_York:20260328T100000
DTEND;TZID=America/New_York:20260328T120000
DTSTAMP:20260421T050902
CREATED:20260318T165309Z
LAST-MODIFIED:20260318T165309Z
UID:10004906-1774692000-1774699200@nowincluded.com
SUMMARY:Understanding Alzheimer's: Prevention\, Diagnosis\, and Care Resources
DESCRIPTION:Register TODAY for an educational program featuring medical experts\, caregiver resources\, and free confidential memory screenings. \n\n\n\n\nAre you beginning to notice signs of memory loss in yourself or your loved one? Do you have a family history of a memory disorder? Do you know the risk factors for vascular dementia? Are you a caregiver who needs information and resources for better self-care and support? \nIf you want to have these questions addressed and more\, you should make plans to join Big Bethel AME Church\, in partnership with Flipper Temple AME Church AND Emory Goizueta Alzheimer’s Disease Research Center\, on Saturday\, March 28\, 2026 for a community educational program. \nFree confidential memory screenings and medication reviews with pharmacists will be offered!
URL:https://nowincluded.com/event/understanding-alzheimers-prevention-diagnosis-and-care-resources/
LOCATION:Big Bethel AME Church\, 220 Auburn Avenue Northeast\, Atlanta\, GA\, 30303\, United States
CATEGORIES:Health & Wellness
ATTACH;FMTTYPE=image/png:https://nowincluded.com/wp-content/uploads/2026/03/Screenshot-2026-03-18-115130.png
END:VEVENT
BEGIN:VEVENT
DTSTART;TZID=America/Chicago:20260328T100000
DTEND;TZID=America/Chicago:20260328T150000
DTSTAMP:20260421T050902
CREATED:20260112T152035Z
LAST-MODIFIED:20260112T152035Z
UID:10004653-1774692000-1774710000@nowincluded.com
SUMMARY:The 6th Annual Women's Expo Huntsville
DESCRIPTION:Experience a day dedicated entirely to you at The Women’s Expo Huntsville! Whether you’re looking to jumpstart your business\, discover the latest in health and wellness\, or simply enjoy some premier shopping with local boutiques\, this event has it all. Join us at the Von Braun Center for an inspiring atmosphere filled with expert guest speakers\, live demonstrations\, and incredible networking opportunities
URL:https://nowincluded.com/event/the-6th-annual-womens-expo-huntsville/
LOCATION:The Westin Huntsville\, 6800 Governors West\, Huntsville\, AL\, 35806\, United States
CATEGORIES:Black Maternal Health,Financial Health,Fitness,Food & Culture,Health & Wellness,Women
ATTACH;FMTTYPE=image/jpeg:https://nowincluded.com/wp-content/uploads/2026/01/https___cdn.evbuc_.com_images_1170363156_1927577234923_1_original.jpg
END:VEVENT
BEGIN:VEVENT
DTSTART;TZID=America/New_York:20260328T110000
DTEND;TZID=America/New_York:20260328T140000
DTSTAMP:20260421T050902
CREATED:20260318T210312Z
LAST-MODIFIED:20260318T210312Z
UID:10004916-1774695600-1774706400@nowincluded.com
SUMMARY:Arlington Health & Wellness Expo 2026
DESCRIPTION:Elevate your well-being at the 2026 Arlington Health & Wellness Expo! Hosted by the Arlington Chamber of Commerce\, this community event brings together the area’s top medical professionals\, fitness experts\, and wellness innovators for an afternoon dedicated to your health. Whether you’re looking to discover the latest medical breakthroughs\, participate in on-site health screenings\, or explore new boutique fitness options\, this expo is your pass to a healthier lifestyle. It’s the perfect opportunity to engage with local experts\, gather valuable resources\, and find the motivation you need to reach your personal wellness goals. Don’t miss out on the interactive exhibits and professional advice that can help you thrive in Arlington!
URL:https://nowincluded.com/event/arlington-health-wellness-expo-2026/
LOCATION:Arlington High School\, 869 Mass. Ave.\, Arlington\, MA\, 02476\, United States
CATEGORIES:Fitness,Food & Culture,Health & Wellness,Men,Women
ATTACH;FMTTYPE=image/png:https://nowincluded.com/wp-content/uploads/2026/03/2026HealthWellnessExpoGraphicInstagramPost2.png
END:VEVENT
BEGIN:VEVENT
DTSTART;TZID=America/New_York:20260328T110000
DTEND;TZID=America/New_York:20260328T150000
DTSTAMP:20260421T050902
CREATED:20260211T171818Z
LAST-MODIFIED:20260211T171818Z
UID:10004769-1774695600-1774710000@nowincluded.com
SUMMARY:Black Family Wellness Expo 2026
DESCRIPTION:Take charge of your health at the Black Family Wellness Expo 2026! Join the Silver Spring (MD) Chapter of The Links\, Incorporated on Saturday\, March 28\, 2026\, from 11:00 AM to 3:00 PM at the Silver Spring Civic Building for a day dedicated to empowering families. This free\, family-friendly event offers access to expert healthcare practitioners\, vital health screenings\, and insightful educational sessions on mental health and health equity. There will be refreshments\, door prizes\, and resources for all ages! The Black Family Wellness Expo is FREE and open to the public. However\, please register for this event.
URL:https://nowincluded.com/event/black-family-wellness-expo-2026/
LOCATION:Silver Spring Civic Building at Veterans Plaza\, 1 Veterans Place\, Silver Spring\, MD\, 20910\, United States
CATEGORIES:Health & Wellness,Men,Mental Health,Senior Health,Women
ATTACH;FMTTYPE=image/webp:https://nowincluded.com/wp-content/uploads/2026/02/Black-Family-Wellness-Expo-2026-Baltimore.webp
END:VEVENT
BEGIN:VEVENT
DTSTART;TZID=America/Los_Angeles:20260328T130000
DTEND;TZID=America/Los_Angeles:20260328T190000
DTSTAMP:20260421T050902
CREATED:20260304T190607Z
LAST-MODIFIED:20260304T205736Z
UID:10004857-1774702800-1774724400@nowincluded.com
SUMMARY:Black on the Block LA
DESCRIPTION:Get ready for the ultimate community celebration at Black on the Block LA! This festival is the place to be if you want to support over 100 Black-owned businesses while enjoying the best vibes in Los Angeles. It’s more than just a market; it’s a high-energy space to network\, hang out with friends\, and celebrate Black culture and creativity. There is something for everyone to enjoy!
URL:https://nowincluded.com/event/black-on-the-block-la/
LOCATION:Los Angeles Center Studios\, 450 S Bixel St\, Los Angeles\, CA\, 90017\, United States
CATEGORIES:Festival/Market,Food & Culture,Mixer / Networking,Music,NOWINCLUDED
ATTACH;FMTTYPE=image/png:https://nowincluded.com/wp-content/uploads/2026/03/Black-on-the-block.png
END:VEVENT
END:VCALENDAR